BEGIN:VCALENDAR
VERSION:2.0
PRODID:-//Adventure Scuba, LLC - ECPv6.15.15//NONSGML v1.0//EN
CALSCALE:GREGORIAN
METHOD:PUBLISH
X-ORIGINAL-URL:https://www.adventurescuba.org
X-WR-CALDESC:Events for Adventure Scuba, LLC
REFRESH-INTERVAL;VALUE=DURATION:PT1H
X-Robots-Tag:noindex
X-PUBLISHED-TTL:PT1H
BEGIN:VTIMEZONE
TZID:UTC
BEGIN:STANDARD
TZOFFSETFROM:+0000
TZOFFSETTO:+0000
TZNAME:UTC
DTSTART:20240101T000000
END:STANDARD
END:VTIMEZONE
BEGIN:VEVENT
DTSTART;VALUE=DATE:20250802
DTEND;VALUE=DATE:20250803
DTSTAMP:20260423T233505
CREATED:20250107T052220Z
LAST-MODIFIED:20250801T093940Z
UID:2975-1754092800-1754179199@www.adventurescuba.org
SUMMARY:Open Water E Lake Wreck
DESCRIPTION:
URL:https://www.adventurescuba.org/event/open-water-e-lake-ppb-nitrox-academics-2/
END:VEVENT
BEGIN:VEVENT
DTSTART;VALUE=DATE:20250803
DTEND;VALUE=DATE:20250804
DTSTAMP:20260423T233505
CREATED:20250107T052250Z
LAST-MODIFIED:20250801T094053Z
UID:2977-1754179200-1754265599@www.adventurescuba.org
SUMMARY:Open Water D Lake PPB\, Nitrox Hernandez Wreck
DESCRIPTION:
URL:https://www.adventurescuba.org/event/aow-weekend-deep-wreck-ppb-adv-dives-wreck-4/
END:VEVENT
BEGIN:VEVENT
DTSTART;VALUE=DATE:20250805
DTEND;VALUE=DATE:20250806
DTSTAMP:20260423T233505
CREATED:20250107T052316Z
LAST-MODIFIED:20250801T094150Z
UID:2979-1754352000-1754438399@www.adventurescuba.org
SUMMARY:Zoom 7:30 Sign Up Open Water Class F DMC
DESCRIPTION:
URL:https://www.adventurescuba.org/event/sign-up-open-water-class-f/
END:VEVENT
BEGIN:VEVENT
DTSTART;VALUE=DATE:20250807
DTEND;VALUE=DATE:20250808
DTSTAMP:20260423T233505
CREATED:20250107T052345Z
LAST-MODIFIED:20250801T094256Z
UID:2981-1754524800-1754611199@www.adventurescuba.org
SUMMARY:Org Mtg Open Water Class F
DESCRIPTION:
URL:https://www.adventurescuba.org/event/org-mtg-open-water-class-f/
END:VEVENT
BEGIN:VEVENT
DTSTART;VALUE=DATE:20250809
DTEND;VALUE=DATE:20250810
DTSTAMP:20260423T233505
CREATED:20250801T094336Z
LAST-MODIFIED:20250801T094336Z
UID:3242-1754697600-1754783999@www.adventurescuba.org
SUMMARY:Rescue Hernandez\, Wilhite
DESCRIPTION:
URL:https://www.adventurescuba.org/event/rescue-hernandez-wilhite/
END:VEVENT
BEGIN:VEVENT
DTSTART;VALUE=DATE:20250810
DTEND;VALUE=DATE:20250811
DTSTAMP:20260423T233505
CREATED:20250801T094457Z
LAST-MODIFIED:20250801T094457Z
UID:3245-1754784000-1754870399@www.adventurescuba.org
SUMMARY:Rescue\, Gasper AOW
DESCRIPTION:
URL:https://www.adventurescuba.org/event/rescue-gasper-aow/
END:VEVENT
BEGIN:VEVENT
DTSTART;VALUE=DATE:20250812
DTEND;VALUE=DATE:20250813
DTSTAMP:20260423T233505
CREATED:20250801T095142Z
LAST-MODIFIED:20250801T095142Z
UID:3248-1754956800-1755043199@www.adventurescuba.org
SUMMARY:DMC Workshop 1630
DESCRIPTION:
URL:https://www.adventurescuba.org/event/dmc-workshop-1630/
END:VEVENT
BEGIN:VEVENT
DTSTART;VALUE=DATE:20250813
DTEND;VALUE=DATE:20250814
DTSTAMP:20260423T233505
CREATED:20250801T095332Z
LAST-MODIFIED:20250801T095332Z
UID:3250-1755043200-1755129599@www.adventurescuba.org
SUMMARY:Gasper LS Docs DMC Skills 1630
DESCRIPTION:
URL:https://www.adventurescuba.org/event/gasper-ls-docs-dmc-skills-1630/
END:VEVENT
BEGIN:VEVENT
DTSTART;VALUE=DATE:20250815
DTEND;VALUE=DATE:20250816
DTSTAMP:20260423T233505
CREATED:20250107T052421Z
LAST-MODIFIED:20250801T095418Z
UID:2983-1755216000-1755302399@www.adventurescuba.org
SUMMARY:Open Water Class F Academics
DESCRIPTION:
URL:https://www.adventurescuba.org/event/open-water-class-f-academics-2/
END:VEVENT
BEGIN:VEVENT
DTSTART;VALUE=DATE:20250816
DTEND;VALUE=DATE:20250817
DTSTAMP:20260423T233505
CREATED:20250107T052451Z
LAST-MODIFIED:20250801T095550Z
UID:2985-1755302400-1755388799@www.adventurescuba.org
SUMMARY:Open Water Pool AM Class F Academics PM
DESCRIPTION:
URL:https://www.adventurescuba.org/event/open-water-pool-am-class-f-academics-pm-3/
END:VEVENT
BEGIN:VEVENT
DTSTART;VALUE=DATE:20250817
DTEND;VALUE=DATE:20250818
DTSTAMP:20260423T233505
CREATED:20250107T052520Z
LAST-MODIFIED:20250801T095847Z
UID:2988-1755388800-1755475199@www.adventurescuba.org
SUMMARY:Open Water Pool AM Class F Academics PM
DESCRIPTION:
URL:https://www.adventurescuba.org/event/open-water-pool-am-class-f-academics-pm-4/
END:VEVENT
BEGIN:VEVENT
DTSTART;VALUE=DATE:20250818
DTEND;VALUE=DATE:20250819
DTSTAMP:20260423T233505
CREATED:20250801T100321Z
LAST-MODIFIED:20250801T100321Z
UID:3254-1755475200-1755561599@www.adventurescuba.org
SUMMARY:DMC Workshop 1630
DESCRIPTION:
URL:https://www.adventurescuba.org/event/dmc-workshop-1630-2/
END:VEVENT
BEGIN:VEVENT
DTSTART;VALUE=DATE:20250819
DTEND;VALUE=DATE:20250820
DTSTAMP:20260423T233505
CREATED:20250501T142201Z
LAST-MODIFIED:20250801T100427Z
UID:3085-1755561600-1755647999@www.adventurescuba.org
SUMMARY:Sign Up Open Water Class G
DESCRIPTION:
URL:https://www.adventurescuba.org/event/sign-up-open-water-class-g-3/
END:VEVENT
BEGIN:VEVENT
DTSTART;VALUE=DATE:20250821
DTEND;VALUE=DATE:20250822
DTSTAMP:20260423T233505
CREATED:20250501T142259Z
LAST-MODIFIED:20250801T100528Z
UID:3087-1755734400-1755820799@www.adventurescuba.org
SUMMARY:Org Mtg Open Water Class G
DESCRIPTION:
URL:https://www.adventurescuba.org/event/org-mtg-open-water-class-g-3/
END:VEVENT
BEGIN:VEVENT
DTSTART;VALUE=DATE:20250822
DTEND;VALUE=DATE:20250823
DTSTAMP:20260423T233505
CREATED:20250801T100659Z
LAST-MODIFIED:20250801T100659Z
UID:3257-1755820800-1755907199@www.adventurescuba.org
SUMMARY:Class & Gear Prep\, load
DESCRIPTION:
URL:https://www.adventurescuba.org/event/class-gear-prep-load/
END:VEVENT
BEGIN:VEVENT
DTSTART;VALUE=DATE:20250823
DTEND;VALUE=DATE:20250824
DTSTAMP:20260423T233505
CREATED:20250107T052552Z
LAST-MODIFIED:20250801T100902Z
UID:2990-1755907200-1755993599@www.adventurescuba.org
SUMMARY:Open Water F Lake PPB\, Nitrox Academics Rafe Nav
DESCRIPTION:
URL:https://www.adventurescuba.org/event/open-water-f-lake-ppb-nitrox-academics-2/
END:VEVENT
BEGIN:VEVENT
DTSTART;VALUE=DATE:20250824
DTEND;VALUE=DATE:20250825
DTSTAMP:20260423T233505
CREATED:20250107T052625Z
LAST-MODIFIED:20250801T100955Z
UID:2993-1755993600-1756079999@www.adventurescuba.org
SUMMARY:OW F Hernandez Search & Recovery Rafe PPB\, Certified Divers
DESCRIPTION:
URL:https://www.adventurescuba.org/event/open-water-f-lake-ppb-nitrox-2/
END:VEVENT
BEGIN:VEVENT
DTSTART;VALUE=DATE:20250829
DTEND;VALUE=DATE:20250830
DTSTAMP:20260423T233505
CREATED:20250107T052650Z
LAST-MODIFIED:20250801T101138Z
UID:2995-1756425600-1756511999@www.adventurescuba.org
SUMMARY:Open Water Class G Academics
DESCRIPTION:
URL:https://www.adventurescuba.org/event/open-water-class-g-academics-3/
END:VEVENT
BEGIN:VEVENT
DTSTART;VALUE=DATE:20250830
DTEND;VALUE=DATE:20250831
DTSTAMP:20260423T233505
CREATED:20250107T052718Z
LAST-MODIFIED:20250801T101243Z
UID:2997-1756512000-1756598399@www.adventurescuba.org
SUMMARY:Open Water Pool AM Class G Academics PM
DESCRIPTION:
URL:https://www.adventurescuba.org/event/open-water-pool-am-class-g-academics-pm-5/
END:VEVENT
BEGIN:VEVENT
DTSTART;VALUE=DATE:20250831
DTEND;VALUE=DATE:20250901
DTSTAMP:20260423T233505
CREATED:20250107T052746Z
LAST-MODIFIED:20250801T101327Z
UID:2999-1756598400-1756684799@www.adventurescuba.org
SUMMARY:Open Water Pool AM Class G Academics PM
DESCRIPTION:
URL:https://www.adventurescuba.org/event/open-water-pool-am-class-g-academics-pm-6/
END:VEVENT
END:VCALENDAR