BEGIN:VCALENDAR
VERSION:2.0
PRODID:-//Adventure Scuba, LLC - ECPv6.15.15//NONSGML v1.0//EN
CALSCALE:GREGORIAN
METHOD:PUBLISH
X-WR-CALNAME:Adventure Scuba, LLC
X-ORIGINAL-URL:https://www.adventurescuba.org
X-WR-CALDESC:Events for Adventure Scuba, LLC
REFRESH-INTERVAL;VALUE=DURATION:PT1H
X-Robots-Tag:noindex
X-PUBLISHED-TTL:PT1H
BEGIN:VTIMEZONE
TZID:UTC
BEGIN:STANDARD
TZOFFSETFROM:+0000
TZOFFSETTO:+0000
TZNAME:UTC
DTSTART:20240101T000000
END:STANDARD
END:VTIMEZONE
BEGIN:VEVENT
DTSTART;VALUE=DATE:20250901
DTEND;VALUE=DATE:20250902
DTSTAMP:20260423T220458
CREATED:20250908T081944Z
LAST-MODIFIED:20250908T081944Z
UID:3269-1756684800-1756771199@www.adventurescuba.org
SUMMARY:Schmidt Bubblemaker 1600-1900
DESCRIPTION:
URL:https://www.adventurescuba.org/event/schmidt-bubblemaker-1600-1900/
END:VEVENT
BEGIN:VEVENT
DTSTART;VALUE=DATE:20250902
DTEND;VALUE=DATE:20250903
DTSTAMP:20260423T220458
CREATED:20250908T082116Z
LAST-MODIFIED:20250908T082116Z
UID:3271-1756771200-1756857599@www.adventurescuba.org
SUMMARY:Zoom 1900
DESCRIPTION:
URL:https://www.adventurescuba.org/event/zoom-1900/
END:VEVENT
BEGIN:VEVENT
DTSTART;VALUE=DATE:20250905
DTEND;VALUE=DATE:20250906
DTSTAMP:20260423T220458
CREATED:20250908T082203Z
LAST-MODIFIED:20250908T082203Z
UID:3273-1757030400-1757116799@www.adventurescuba.org
SUMMARY:O McVey Pool 0800- 1630
DESCRIPTION:
URL:https://www.adventurescuba.org/event/o-mcvey-pool-0800-1630/
END:VEVENT
BEGIN:VEVENT
DTSTART;VALUE=DATE:20250906
DTEND;VALUE=DATE:20250907
DTSTAMP:20260423T220458
CREATED:20250501T143333Z
LAST-MODIFIED:20250908T082255Z
UID:3094-1757116800-1757203199@www.adventurescuba.org
SUMMARY:Open Water G Lake McVey\, D Miller Hernandez Nitrox
DESCRIPTION:
URL:https://www.adventurescuba.org/event/open-water-g-lake-ppb-nitrox-academics-2/
END:VEVENT
BEGIN:VEVENT
DTSTART;VALUE=DATE:20250907
DTEND;VALUE=DATE:20250908
DTSTAMP:20260423T220458
CREATED:20250501T143417Z
LAST-MODIFIED:20250908T082355Z
UID:3096-1757203200-1757289599@www.adventurescuba.org
SUMMARY:Open Water G Lake McVey D Miller Omeragic PPB\, Hernandez Search & Recov
DESCRIPTION:
URL:https://www.adventurescuba.org/event/open-water-g-lake-ppb-nitrox-academics-3/
END:VEVENT
BEGIN:VEVENT
DTSTART;VALUE=DATE:20250923
DTEND;VALUE=DATE:20250924
DTSTAMP:20260423T220458
CREATED:20250908T082437Z
LAST-MODIFIED:20250908T082437Z
UID:3277-1758585600-1758671999@www.adventurescuba.org
SUMMARY:Field Trip Fridays Bubblemaker 1200 & 1300
DESCRIPTION:
URL:https://www.adventurescuba.org/event/field-trip-fridays-bubblemaker-1200-1300/
END:VEVENT
BEGIN:VEVENT
DTSTART;VALUE=DATE:20250925
DTEND;VALUE=DATE:20250926
DTSTAMP:20260423T220458
CREATED:20250908T082533Z
LAST-MODIFIED:20250908T082533Z
UID:3279-1758758400-1758844799@www.adventurescuba.org
SUMMARY:Field Trip Fridays Bubblemaker 1200 & 1300
DESCRIPTION:
URL:https://www.adventurescuba.org/event/field-trip-fridays-bubblemaker-1200-1300-2/
END:VEVENT
BEGIN:VEVENT
DTSTART;VALUE=DATE:20250926
DTEND;VALUE=DATE:20250927
DTSTAMP:20260423T220458
CREATED:20250501T143609Z
LAST-MODIFIED:20250501T143609Z
UID:3098-1758844800-1758931199@www.adventurescuba.org
SUMMARY:AOW Weekend Night Specialty
DESCRIPTION:
URL:https://www.adventurescuba.org/event/aow-weekend-night-specialty-2/
END:VEVENT
BEGIN:VEVENT
DTSTART;VALUE=DATE:20250927
DTEND;VALUE=DATE:20250928
DTSTAMP:20260423T220458
CREATED:20250501T143714Z
LAST-MODIFIED:20250501T143714Z
UID:3101-1758931200-1759017599@www.adventurescuba.org
SUMMARY:AOW Weekend Deep\, Wreck\, PPB Adv Dives\, Wreck 4
DESCRIPTION:
URL:https://www.adventurescuba.org/event/aow-weekend-deep-wreck-ppb-adv-dives-wreck-4-2/
END:VEVENT
BEGIN:VEVENT
DTSTART;VALUE=DATE:20250928
DTEND;VALUE=DATE:20250929
DTSTAMP:20260423T220458
CREATED:20250501T143752Z
LAST-MODIFIED:20250501T143752Z
UID:3103-1759017600-1759103999@www.adventurescuba.org
SUMMARY:AOW Weekend Deep\, Wreck\, PPB Adv Dives\, Wreck 4
DESCRIPTION:
URL:https://www.adventurescuba.org/event/aow-weekend-deep-wreck-ppb-adv-dives-wreck-4-3/
END:VEVENT
END:VCALENDAR