BEGIN:VCALENDAR
VERSION:2.0
PRODID:-//Adventure Scuba, LLC - ECPv6.15.15//NONSGML v1.0//EN
CALSCALE:GREGORIAN
METHOD:PUBLISH
X-ORIGINAL-URL:https://www.adventurescuba.org
X-WR-CALDESC:Events for Adventure Scuba, LLC
REFRESH-INTERVAL;VALUE=DURATION:PT1H
X-Robots-Tag:noindex
X-PUBLISHED-TTL:PT1H
BEGIN:VTIMEZONE
TZID:UTC
BEGIN:STANDARD
TZOFFSETFROM:+0000
TZOFFSETTO:+0000
TZNAME:UTC
DTSTART:20240101T000000
END:STANDARD
END:VTIMEZONE
BEGIN:VEVENT
DTSTART;VALUE=DATE:20251014
DTEND;VALUE=DATE:20251015
DTSTAMP:20260423T202848
CREATED:20250501T134906Z
LAST-MODIFIED:20250501T134906Z
UID:3069-1760400000-1760486399@www.adventurescuba.org
SUMMARY:Discover\, Bubblemaker\, Reactivate Sign up Session 4
DESCRIPTION:
URL:https://www.adventurescuba.org/event/discover-bubblemaker-reactivate-sign-up-session-4/
END:VEVENT
BEGIN:VEVENT
DTSTART;VALUE=DATE:20251017
DTEND;VALUE=DATE:20251018
DTSTAMP:20260423T202848
CREATED:20250501T144038Z
LAST-MODIFIED:20250501T144038Z
UID:3106-1760659200-1760745599@www.adventurescuba.org
SUMMARY:Organizational Meeting Session 4
DESCRIPTION:
URL:https://www.adventurescuba.org/event/organizational-meeting-session-4/
END:VEVENT
BEGIN:VEVENT
DTSTART;VALUE=DATE:20251018
DTEND;VALUE=DATE:20251019
DTSTAMP:20260423T202848
CREATED:20250501T144106Z
LAST-MODIFIED:20250501T144106Z
UID:3108-1760745600-1760831999@www.adventurescuba.org
SUMMARY:Class 10 AM Session 4
DESCRIPTION:
URL:https://www.adventurescuba.org/event/class-10-am-session-4/
END:VEVENT
END:VCALENDAR