BEGIN:VCALENDAR
VERSION:2.0
PRODID:-//Adventure Scuba, LLC - ECPv6.15.15//NONSGML v1.0//EN
CALSCALE:GREGORIAN
METHOD:PUBLISH
X-ORIGINAL-URL:https://www.adventurescuba.org
X-WR-CALDESC:Events for Adventure Scuba, LLC
REFRESH-INTERVAL;VALUE=DURATION:PT1H
X-Robots-Tag:noindex
X-PUBLISHED-TTL:PT1H
BEGIN:VTIMEZONE
TZID:UTC
BEGIN:STANDARD
TZOFFSETFROM:+0000
TZOFFSETTO:+0000
TZNAME:UTC
DTSTART:20240101T000000
END:STANDARD
END:VTIMEZONE
BEGIN:VEVENT
DTSTART;VALUE=DATE:20251101
DTEND;VALUE=DATE:20251102
DTSTAMP:20260423T183942
CREATED:20250107T053629Z
LAST-MODIFIED:20250107T053629Z
UID:3024-1761955200-1762041599@www.adventurescuba.org
SUMMARY:Open Water Academics AM Class H Pool PM
DESCRIPTION:
URL:https://www.adventurescuba.org/event/open-water-academics-am-class-h-pool-pm-2/
END:VEVENT
BEGIN:VEVENT
DTSTART;VALUE=DATE:20251102
DTEND;VALUE=DATE:20251103
DTSTAMP:20260423T183942
CREATED:20250107T053712Z
LAST-MODIFIED:20250107T053712Z
UID:3026-1762041600-1762127999@www.adventurescuba.org
SUMMARY:Open Water Academics AM Class H Pool 6 PM
DESCRIPTION:
URL:https://www.adventurescuba.org/event/open-water-academics-am-class-h-pool-6-pm-2/
END:VEVENT
BEGIN:VEVENT
DTSTART;VALUE=DATE:20251108
DTEND;VALUE=DATE:20251109
DTSTAMP:20260423T183942
CREATED:20250107T053826Z
LAST-MODIFIED:20250107T053826Z
UID:3028-1762560000-1762646399@www.adventurescuba.org
SUMMARY:Open Water H Lake PPB\, Nitrox Academics
DESCRIPTION:
URL:https://www.adventurescuba.org/event/open-water-h-lake-ppb-nitrox-academics-2/
END:VEVENT
BEGIN:VEVENT
DTSTART;VALUE=DATE:20251109
DTEND;VALUE=DATE:20251110
DTSTAMP:20260423T183942
CREATED:20250107T053914Z
LAST-MODIFIED:20250107T053914Z
UID:3030-1762646400-1762732799@www.adventurescuba.org
SUMMARY:Open Water H Lake PPB\, Nitrox
DESCRIPTION:
URL:https://www.adventurescuba.org/event/open-water-h-lake-ppb-nitrox-2/
END:VEVENT
END:VCALENDAR