BEGIN:VCALENDAR
VERSION:2.0
PRODID:-//Adventure Scuba, LLC - ECPv6.15.15//NONSGML v1.0//EN
CALSCALE:GREGORIAN
METHOD:PUBLISH
X-ORIGINAL-URL:https://www.adventurescuba.org
X-WR-CALDESC:Events for Adventure Scuba, LLC
REFRESH-INTERVAL;VALUE=DURATION:PT1H
X-Robots-Tag:noindex
X-PUBLISHED-TTL:PT1H
BEGIN:VTIMEZONE
TZID:UTC
BEGIN:STANDARD
TZOFFSETFROM:+0000
TZOFFSETTO:+0000
TZNAME:UTC
DTSTART:20250101T000000
END:STANDARD
END:VTIMEZONE
BEGIN:VEVENT
DTSTART;VALUE=DATE:20260128
DTEND;VALUE=DATE:20260129
DTSTAMP:20260423T154157
CREATED:20260119T092814Z
LAST-MODIFIED:20260119T092814Z
UID:3351-1769558400-1769644799@www.adventurescuba.org
SUMMARY:PSI-SCI 11:30
DESCRIPTION:
URL:https://www.adventurescuba.org/event/psi-sci-1130/
END:VEVENT
END:VCALENDAR