BEGIN:VCALENDAR
VERSION:2.0
PRODID:-//Adventure Scuba, LLC - ECPv6.15.15//NONSGML v1.0//EN
CALSCALE:GREGORIAN
METHOD:PUBLISH
X-WR-CALNAME:Adventure Scuba, LLC
X-ORIGINAL-URL:https://www.adventurescuba.org
X-WR-CALDESC:Events for Adventure Scuba, LLC
REFRESH-INTERVAL;VALUE=DURATION:PT1H
X-Robots-Tag:noindex
X-PUBLISHED-TTL:PT1H
BEGIN:VTIMEZONE
TZID:UTC
BEGIN:STANDARD
TZOFFSETFROM:+0000
TZOFFSETTO:+0000
TZNAME:UTC
DTSTART:20250101T000000
END:STANDARD
END:VTIMEZONE
BEGIN:VEVENT
DTSTART;VALUE=DATE:20260202
DTEND;VALUE=DATE:20260203
DTSTAMP:20260423T140845
CREATED:20260223T060617Z
LAST-MODIFIED:20260223T060617Z
UID:3535-1769990400-1770076799@www.adventurescuba.org
SUMMARY:Chadwick
DESCRIPTION:
URL:https://www.adventurescuba.org/event/chadwick/
END:VEVENT
BEGIN:VEVENT
DTSTART;VALUE=DATE:20260203
DTEND;VALUE=DATE:20260204
DTSTAMP:20260423T140845
CREATED:20260119T092955Z
LAST-MODIFIED:20260119T092955Z
UID:3353-1770076800-1770163199@www.adventurescuba.org
SUMMARY:Zoom 7 PM
DESCRIPTION:
URL:https://www.adventurescuba.org/event/zoom-7-pm/
END:VEVENT
BEGIN:VEVENT
DTSTART;VALUE=DATE:20260205
DTEND;VALUE=DATE:20260206
DTSTAMP:20260423T140845
CREATED:20260223T060749Z
LAST-MODIFIED:20260223T060749Z
UID:3537-1770249600-1770335999@www.adventurescuba.org
SUMMARY:Instructor Meeting 1900
DESCRIPTION:
URL:https://www.adventurescuba.org/event/instructor-meeting-1900/
END:VEVENT
BEGIN:VEVENT
DTSTART;VALUE=DATE:20260206
DTEND;VALUE=DATE:20260207
DTSTAMP:20260423T140845
CREATED:20260223T060829Z
LAST-MODIFIED:20260223T060829Z
UID:3539-1770336000-1770422399@www.adventurescuba.org
SUMMARY:1300 Lone Star Gear
DESCRIPTION:
URL:https://www.adventurescuba.org/event/1300-lone-star-gear/
END:VEVENT
BEGIN:VEVENT
DTSTART;VALUE=DATE:20260207
DTEND;VALUE=DATE:20260208
DTSTAMP:20260423T140845
CREATED:20260223T060858Z
LAST-MODIFIED:20260223T060858Z
UID:3541-1770422400-1770508799@www.adventurescuba.org
SUMMARY:Luis Valles 1000
DESCRIPTION:
URL:https://www.adventurescuba.org/event/luis-valles-1000/
END:VEVENT
BEGIN:VEVENT
DTSTART;VALUE=DATE:20260210
DTEND;VALUE=DATE:20260211
DTSTAMP:20260423T140845
CREATED:20260223T060933Z
LAST-MODIFIED:20260223T060933Z
UID:3543-1770681600-1770767999@www.adventurescuba.org
SUMMARY:Stanley 7:30 PM Pool
DESCRIPTION:
URL:https://www.adventurescuba.org/event/stanley-730-pm-pool/
END:VEVENT
BEGIN:VEVENT
DTSTART;VALUE=DATE:20260217
DTEND;VALUE=DATE:20260218
DTSTAMP:20260423T140845
CREATED:20260223T060959Z
LAST-MODIFIED:20260223T060959Z
UID:3545-1771286400-1771372799@www.adventurescuba.org
SUMMARY:Lenisa EFR 1100
DESCRIPTION:
URL:https://www.adventurescuba.org/event/lenisa-efr-1100/
END:VEVENT
BEGIN:VEVENT
DTSTART;VALUE=DATE:20260219
DTEND;VALUE=DATE:20260220
DTSTAMP:20260423T140845
CREATED:20260223T061026Z
LAST-MODIFIED:20260223T061026Z
UID:3547-1771459200-1771545599@www.adventurescuba.org
SUMMARY:Veterans in Business 1130
DESCRIPTION:
URL:https://www.adventurescuba.org/event/veterans-in-business-1130/
END:VEVENT
BEGIN:VEVENT
DTSTART;VALUE=DATE:20260221
DTEND;VALUE=DATE:20260222
DTSTAMP:20260423T140845
CREATED:20260223T061103Z
LAST-MODIFIED:20260223T061103Z
UID:3549-1771632000-1771718399@www.adventurescuba.org
SUMMARY:DMC TWU
DESCRIPTION:
URL:https://www.adventurescuba.org/event/dmc-twu-2/
END:VEVENT
BEGIN:VEVENT
DTSTART;VALUE=DATE:20260221
DTEND;VALUE=DATE:20260222
DTSTAMP:20260423T140845
CREATED:20260119T093019Z
LAST-MODIFIED:20260119T093131Z
UID:3355-1771632000-1771718399@www.adventurescuba.org
SUMMARY:DMC TWU
DESCRIPTION:
URL:https://www.adventurescuba.org/event/dmc-twu/
END:VEVENT
BEGIN:VEVENT
DTSTART;VALUE=DATE:20260223
DTEND;VALUE=DATE:20260224
DTSTAMP:20260423T140845
CREATED:20260223T061137Z
LAST-MODIFIED:20260223T061137Z
UID:3551-1771804800-1771891199@www.adventurescuba.org
SUMMARY:7:30 PM Miller Barnes
DESCRIPTION:
URL:https://www.adventurescuba.org/event/730-pm-miller-barnes/
END:VEVENT
END:VCALENDAR