BEGIN:VCALENDAR
VERSION:2.0
PRODID:-//Adventure Scuba, LLC - ECPv6.15.15//NONSGML v1.0//EN
CALSCALE:GREGORIAN
METHOD:PUBLISH
X-ORIGINAL-URL:https://www.adventurescuba.org
X-WR-CALDESC:Events for Adventure Scuba, LLC
REFRESH-INTERVAL;VALUE=DURATION:PT1H
X-Robots-Tag:noindex
X-PUBLISHED-TTL:PT1H
BEGIN:VTIMEZONE
TZID:UTC
BEGIN:STANDARD
TZOFFSETFROM:+0000
TZOFFSETTO:+0000
TZNAME:UTC
DTSTART:20250101T000000
END:STANDARD
END:VTIMEZONE
BEGIN:VEVENT
DTSTART;VALUE=DATE:20260801
DTEND;VALUE=DATE:20260802
DTSTAMP:20260423T173959
CREATED:20260119T105438Z
LAST-MODIFIED:20260119T105438Z
UID:3439-1785542400-1785628799@www.adventurescuba.org
SUMMARY:Open Water E Lake
DESCRIPTION:
URL:https://www.adventurescuba.org/event/open-water-e-lake/
END:VEVENT
BEGIN:VEVENT
DTSTART;VALUE=DATE:20260802
DTEND;VALUE=DATE:20260803
DTSTAMP:20260423T173959
CREATED:20260119T105552Z
LAST-MODIFIED:20260119T105552Z
UID:3441-1785628800-1785715199@www.adventurescuba.org
SUMMARY:Open Water D Lake PPB\, Nitrox
DESCRIPTION:
URL:https://www.adventurescuba.org/event/open-water-d-lake-ppb-nitrox/
END:VEVENT
BEGIN:VEVENT
DTSTART;VALUE=DATE:20260804
DTEND;VALUE=DATE:20260805
DTSTAMP:20260423T173959
CREATED:20260119T105714Z
LAST-MODIFIED:20260119T105714Z
UID:3443-1785801600-1785887999@www.adventurescuba.org
SUMMARY:Zoom 7:30 Sign Up Open Water Class F
DESCRIPTION:
URL:https://www.adventurescuba.org/event/zoom-730-sign-up-open-water-class-f/
END:VEVENT
BEGIN:VEVENT
DTSTART;VALUE=DATE:20260806
DTEND;VALUE=DATE:20260807
DTSTAMP:20260423T173959
CREATED:20260119T105924Z
LAST-MODIFIED:20260119T105924Z
UID:3445-1785974400-1786060799@www.adventurescuba.org
SUMMARY:Org Mtg Open Water Class F
DESCRIPTION:
URL:https://www.adventurescuba.org/event/org-mtg-open-water-class-f-2/
END:VEVENT
BEGIN:VEVENT
DTSTART;VALUE=DATE:20260814
DTEND;VALUE=DATE:20260815
DTSTAMP:20260423T173959
CREATED:20260119T110003Z
LAST-MODIFIED:20260119T110003Z
UID:3447-1786665600-1786751999@www.adventurescuba.org
SUMMARY:Open Water Class F Academics
DESCRIPTION:
URL:https://www.adventurescuba.org/event/open-water-class-f-academics-3/
END:VEVENT
BEGIN:VEVENT
DTSTART;VALUE=DATE:20260815
DTEND;VALUE=DATE:20260816
DTSTAMP:20260423T173959
CREATED:20260119T110058Z
LAST-MODIFIED:20260119T110058Z
UID:3449-1786752000-1786838399@www.adventurescuba.org
SUMMARY:Open Water Pool AM Class F Academics PM
DESCRIPTION:
URL:https://www.adventurescuba.org/event/open-water-pool-am-class-f-academics-pm-5/
END:VEVENT
BEGIN:VEVENT
DTSTART;VALUE=DATE:20260816
DTEND;VALUE=DATE:20260817
DTSTAMP:20260423T173959
CREATED:20260119T110313Z
LAST-MODIFIED:20260119T110313Z
UID:3451-1786838400-1786924799@www.adventurescuba.org
SUMMARY:Open Water Pool AM Class F Academics PM
DESCRIPTION:
URL:https://www.adventurescuba.org/event/open-water-pool-am-class-f-academics-pm-6/
END:VEVENT
BEGIN:VEVENT
DTSTART;VALUE=DATE:20260818
DTEND;VALUE=DATE:20260819
DTSTAMP:20260423T173959
CREATED:20260119T110413Z
LAST-MODIFIED:20260119T110413Z
UID:3453-1787011200-1787097599@www.adventurescuba.org
SUMMARY:Sign Up Open Water Class G
DESCRIPTION:
URL:https://www.adventurescuba.org/event/sign-up-open-water-class-g-2/
END:VEVENT
BEGIN:VEVENT
DTSTART;VALUE=DATE:20260820
DTEND;VALUE=DATE:20260821
DTSTAMP:20260423T173959
CREATED:20260119T110530Z
LAST-MODIFIED:20260119T110530Z
UID:3455-1787184000-1787270399@www.adventurescuba.org
SUMMARY:Org Mtg Open Water Class G
DESCRIPTION:
URL:https://www.adventurescuba.org/event/org-mtg-open-water-class-g-2/
END:VEVENT
BEGIN:VEVENT
DTSTART;VALUE=DATE:20260822
DTEND;VALUE=DATE:20260823
DTSTAMP:20260423T173959
CREATED:20260119T110609Z
LAST-MODIFIED:20260119T110609Z
UID:3457-1787356800-1787443199@www.adventurescuba.org
SUMMARY:Open Water F Lake PPB\, Nitrox Academics
DESCRIPTION:
URL:https://www.adventurescuba.org/event/open-water-f-lake-ppb-nitrox-academics-3/
END:VEVENT
BEGIN:VEVENT
DTSTART;VALUE=DATE:20260823
DTEND;VALUE=DATE:20260824
DTSTAMP:20260423T173959
CREATED:20260119T110704Z
LAST-MODIFIED:20260119T110704Z
UID:3459-1787443200-1787529599@www.adventurescuba.org
SUMMARY:Open Water Lake
DESCRIPTION:
URL:https://www.adventurescuba.org/event/open-water-lake-3/
END:VEVENT
BEGIN:VEVENT
DTSTART;VALUE=DATE:20260828
DTEND;VALUE=DATE:20260829
DTSTAMP:20260423T173959
CREATED:20260119T110747Z
LAST-MODIFIED:20260119T110759Z
UID:3461-1787875200-1787961599@www.adventurescuba.org
SUMMARY:Open Water Class G Academics
DESCRIPTION:
URL:https://www.adventurescuba.org/event/open-water-class-g-academics-2/
END:VEVENT
BEGIN:VEVENT
DTSTART;VALUE=DATE:20260829
DTEND;VALUE=DATE:20260830
DTSTAMP:20260423T173959
CREATED:20260119T110900Z
LAST-MODIFIED:20260119T110900Z
UID:3463-1787961600-1788047999@www.adventurescuba.org
SUMMARY:Open Water Pool AM Class G Academics PM
DESCRIPTION:
URL:https://www.adventurescuba.org/event/open-water-pool-am-class-g-academics-pm-3/
END:VEVENT
BEGIN:VEVENT
DTSTART;VALUE=DATE:20260830
DTEND;VALUE=DATE:20260831
DTSTAMP:20260423T173959
CREATED:20260119T111007Z
LAST-MODIFIED:20260119T111007Z
UID:3465-1788048000-1788134399@www.adventurescuba.org
SUMMARY:Open Water Pool AM Class G Academics PM
DESCRIPTION:
URL:https://www.adventurescuba.org/event/open-water-pool-am-class-g-academics-pm-4/
END:VEVENT
END:VCALENDAR