BEGIN:VCALENDAR
VERSION:2.0
PRODID:-//Adventure Scuba, LLC - ECPv6.15.15//NONSGML v1.0//EN
CALSCALE:GREGORIAN
METHOD:PUBLISH
X-WR-CALNAME:Adventure Scuba, LLC
X-ORIGINAL-URL:https://www.adventurescuba.org
X-WR-CALDESC:Events for Adventure Scuba, LLC
REFRESH-INTERVAL;VALUE=DURATION:PT1H
X-Robots-Tag:noindex
X-PUBLISHED-TTL:PT1H
BEGIN:VTIMEZONE
TZID:UTC
BEGIN:STANDARD
TZOFFSETFROM:+0000
TZOFFSETTO:+0000
TZNAME:UTC
DTSTART:20250101T000000
END:STANDARD
END:VTIMEZONE
BEGIN:VEVENT
DTSTART;VALUE=DATE:20261205
DTEND;VALUE=DATE:20261206
DTSTAMP:20260423T234546
CREATED:20260119T112142Z
LAST-MODIFIED:20260119T112142Z
UID:3479-1796428800-1796515199@www.adventurescuba.org
SUMMARY:OW Knowledge Session OW Pool
DESCRIPTION:
URL:https://www.adventurescuba.org/event/ow-knowledge-session-ow-pool-7/
END:VEVENT
BEGIN:VEVENT
DTSTART;VALUE=DATE:20261206
DTEND;VALUE=DATE:20261207
DTSTAMP:20260423T234546
CREATED:20260119T112312Z
LAST-MODIFIED:20260119T112312Z
UID:3481-1796515200-1796601599@www.adventurescuba.org
SUMMARY:OW Knowledge Session OW Pool
DESCRIPTION:
URL:https://www.adventurescuba.org/event/ow-knowledge-session-ow-pool-8/
END:VEVENT
BEGIN:VEVENT
DTSTART;VALUE=DATE:20261211
DTEND;VALUE=DATE:20261212
DTSTAMP:20260423T234546
CREATED:20260119T112712Z
LAST-MODIFIED:20260119T112712Z
UID:3483-1796947200-1797033599@www.adventurescuba.org
SUMMARY:Aquarena
DESCRIPTION:
URL:https://www.adventurescuba.org/event/aquarena-4/
END:VEVENT
BEGIN:VEVENT
DTSTART;VALUE=DATE:20261212
DTEND;VALUE=DATE:20261213
DTSTAMP:20260423T234546
CREATED:20260119T112925Z
LAST-MODIFIED:20260119T112925Z
UID:3485-1797033600-1797119999@www.adventurescuba.org
SUMMARY:OW Lake Peak Performance Buoyancy Academics Nitrox Academics
DESCRIPTION:
URL:https://www.adventurescuba.org/event/ow-lake-peak-performance-buoyancy-academics-nitrox-academics-4/
END:VEVENT
BEGIN:VEVENT
DTSTART;VALUE=DATE:20261213
DTEND;VALUE=DATE:20261214
DTSTAMP:20260423T234546
CREATED:20260119T113106Z
LAST-MODIFIED:20260119T113106Z
UID:3487-1797120000-1797206399@www.adventurescuba.org
SUMMARY:OW Lake Peak Performance Buoyancy Nitrox
DESCRIPTION:
URL:https://www.adventurescuba.org/event/ow-lake-peak-performance-buoyancy-nitrox-4/
END:VEVENT
END:VCALENDAR