BEGIN:VCALENDAR
VERSION:2.0
PRODID:-//Adventure Scuba, LLC - ECPv6.15.15//NONSGML v1.0//EN
CALSCALE:GREGORIAN
METHOD:PUBLISH
X-ORIGINAL-URL:https://www.adventurescuba.org
X-WR-CALDESC:Events for Adventure Scuba, LLC
REFRESH-INTERVAL;VALUE=DURATION:PT1H
X-Robots-Tag:noindex
X-PUBLISHED-TTL:PT1H
BEGIN:VTIMEZONE
TZID:UTC
BEGIN:STANDARD
TZOFFSETFROM:+0000
TZOFFSETTO:+0000
TZNAME:UTC
DTSTART:20250101T000000
END:STANDARD
END:VTIMEZONE
BEGIN:VEVENT
DTSTART;VALUE=DATE:20260425
DTEND;VALUE=DATE:20260426
DTSTAMP:20260423T111024
CREATED:20260119T094931Z
LAST-MODIFIED:20260408T120550Z
UID:3373-1777075200-1777161599@www.adventurescuba.org
SUMMARY:Smith Private OW Pool
DESCRIPTION:
URL:https://www.adventurescuba.org/event/smith-private-ow-pool-2/
END:VEVENT
BEGIN:VEVENT
DTSTART;VALUE=DATE:20260426
DTEND;VALUE=DATE:20260427
DTSTAMP:20260423T111024
CREATED:20260119T095016Z
LAST-MODIFIED:20260408T120347Z
UID:3375-1777161600-1777247999@www.adventurescuba.org
SUMMARY:Smith Private OW Pool
DESCRIPTION:
URL:https://www.adventurescuba.org/event/smith-private-ow-pool/
END:VEVENT
END:VCALENDAR